BEGIN:VCALENDAR
VERSION:2.0
PRODID:-//CorrMagnet Consulting - ECPv6.15.11//NONSGML v1.0//EN
CALSCALE:GREGORIAN
METHOD:PUBLISH
X-ORIGINAL-URL:https://corrmagnet.com
X-WR-CALDESC:Events for CorrMagnet Consulting
REFRESH-INTERVAL;VALUE=DURATION:PT1H
X-Robots-Tag:noindex
X-PUBLISHED-TTL:PT1H
BEGIN:VTIMEZONE
TZID:UTC
BEGIN:STANDARD
TZOFFSETFROM:+0000
TZOFFSETTO:+0000
TZNAME:UTC
DTSTART:20200101T000000
END:STANDARD
END:VTIMEZONE
BEGIN:VTIMEZONE
TZID:UTC
BEGIN:STANDARD
TZOFFSETFROM:+0000
TZOFFSETTO:+0000
TZNAME:UTC
DTSTART:20190101T000000
END:STANDARD
END:VTIMEZONE
BEGIN:VEVENT
DTSTART;TZID=UTC:20230417T100000
DTEND;TZID=UTC:20230421T150000
DTSTAMP:20260423T195858
CREATED:20230211T065603Z
LAST-MODIFIED:20230211T071547Z
UID:2581-1681725600-1682089200@corrmagnet.com
SUMMARY:2023_Spring: Pipeline Integrity Management
DESCRIPTION:
URL:https://corrmagnet.com/event-page/2023_spring-pipeline-integrity-management/
LOCATION:Online
CATEGORIES:allevents,past events,pastevents,upcoming
END:VEVENT
BEGIN:VEVENT
DTSTART;TZID=UTC:20211129T100000
DTEND;TZID=UTC:20211203T150000
DTSTAMP:20260423T195858
CREATED:20201005T043149Z
LAST-MODIFIED:20220818T080837Z
UID:1932-1638180000-1638543600@corrmagnet.com
SUMMARY:2021_Fall: Pipeline Integrity Management Online Course
DESCRIPTION:
URL:https://corrmagnet.com/event-page/2021_fall-pipeline-integrity-management-online-course/
LOCATION:Online
CATEGORIES:allevents,upcoming
END:VEVENT
BEGIN:VEVENT
DTSTART;TZID=UTC:20211122T100000
DTEND;TZID=UTC:20211126T150000
DTSTAMP:20260423T195858
CREATED:20201005T042921Z
LAST-MODIFIED:20220818T080911Z
UID:1928-1637575200-1637938800@corrmagnet.com
SUMMARY:2021_Fall: Internal Corrosion Control Online Course
DESCRIPTION:
URL:https://corrmagnet.com/event-page/2021_fall-internal-corrosion-control-online-course/
LOCATION:Online
CATEGORIES:allevents,upcoming
END:VEVENT
BEGIN:VEVENT
DTSTART;TZID=UTC:20211108T100000
DTEND;TZID=UTC:20211112T150000
DTSTAMP:20260423T195858
CREATED:20201005T043028Z
LAST-MODIFIED:20220818T080934Z
UID:1930-1636365600-1636729200@corrmagnet.com
SUMMARY:2021_Fall: External Corrosion Control Online Course
DESCRIPTION:
URL:https://corrmagnet.com/event-page/2021_fall-external-corrosion-control-online-course/
LOCATION:Online
CATEGORIES:allevents,upcoming
END:VEVENT
BEGIN:VEVENT
DTSTART;TZID=UTC:20210906T100000
DTEND;TZID=UTC:20210910T150000
DTSTAMP:20260423T195858
CREATED:20201005T042826Z
LAST-MODIFIED:20220818T080956Z
UID:1926-1630922400-1631286000@corrmagnet.com
SUMMARY:2021_Summer: Pipeline Integrity Management Online Course
DESCRIPTION:
URL:https://corrmagnet.com/event-page/2021_summer-pipeline-integrity-management-online-course/
LOCATION:Online
CATEGORIES:allevents,upcoming
END:VEVENT
BEGIN:VEVENT
DTSTART;TZID=UTC:20210809T100000
DTEND;TZID=UTC:20210813T150000
DTSTAMP:20260423T195858
CREATED:20201005T042721Z
LAST-MODIFIED:20220818T081028Z
UID:1924-1628503200-1628866800@corrmagnet.com
SUMMARY:2021_Summer: External Corrosion Control Online Course
DESCRIPTION:
URL:https://corrmagnet.com/event-page/2021_summer-external-corrosion-control-online-course/
LOCATION:Online
CATEGORIES:allevents,upcoming
END:VEVENT
BEGIN:VEVENT
DTSTART;TZID=UTC:20210705T100000
DTEND;TZID=UTC:20210709T150000
DTSTAMP:20260423T195858
CREATED:20201005T042553Z
LAST-MODIFIED:20220818T081049Z
UID:1922-1625479200-1625842800@corrmagnet.com
SUMMARY:2021_Summer: Internal Corrosion Control Online Course
DESCRIPTION:
URL:https://corrmagnet.com/event-page/2021_summer-internal-corrosion-control-online-course/
LOCATION:Online
CATEGORIES:allevents,upcoming
END:VEVENT
BEGIN:VEVENT
DTSTART;TZID=UTC:20210607T100000
DTEND;TZID=UTC:20210611T150000
DTSTAMP:20260423T195859
CREATED:20201003T070202Z
LAST-MODIFIED:20220818T081110Z
UID:1920-1623060000-1623423600@corrmagnet.com
SUMMARY:2021_Spring: Pipeline Integrity Management Online Course
DESCRIPTION:
URL:https://corrmagnet.com/event-page/2021_spring-pipeline-integrity-management-online-course/
LOCATION:Online
CATEGORIES:allevents,upcoming
END:VEVENT
BEGIN:VEVENT
DTSTART;TZID=UTC:20210412T100000
DTEND;TZID=UTC:20210416T150000
DTSTAMP:20260423T195859
CREATED:20201003T063236Z
LAST-MODIFIED:20220818T081209Z
UID:1916-1618221600-1618585200@corrmagnet.com
SUMMARY:2021_Spring: Internal Corrosion Control Online Course
DESCRIPTION:
URL:https://corrmagnet.com/event-page/2021_spring-internal-corrosion-control-online-course/
LOCATION:Online
CATEGORIES:allevents,upcoming
END:VEVENT
BEGIN:VEVENT
DTSTART;TZID=UTC:20200424T110000
DTEND;TZID=UTC:20200729T120000
DTSTAMP:20260423T195859
CREATED:20190410T113513Z
LAST-MODIFIED:20220818T081232Z
UID:902-1587726000-1596024000@corrmagnet.com
SUMMARY:2020 STEM-Corrosion Online Course
DESCRIPTION:
URL:https://corrmagnet.com/event-page/2020-stem-corrosion-test-event/
LOCATION:Online
CATEGORIES:upcoming
END:VEVENT
END:VCALENDAR